BEGIN:VCALENDAR
VERSION:2.0
PRODID:-//CERN//INDICO//EN
BEGIN:VEVENT
SUMMARY:Simon Hands
DTSTART:20260428T120000Z
DTEND:20260428T140000Z
DTSTAMP:20260421T075200Z
UID:indico-event-17806@indico.global
DESCRIPTION:https://indico.global/event/17806/
URL:https://indico.global/event/17806/
END:VEVENT
END:VCALENDAR
