BEGIN:VCALENDAR
VERSION:2.0
PRODID:-//CERN//INDICO//EN
BEGIN:VEVENT
SUMMARY:SMEFT phenomenology: an introduction and selected topics in precis
 ion and higher-dimensional effects
DTSTART:20260423T120000Z
DTEND:20260423T130000Z
DTSTAMP:20260421T174700Z
UID:indico-event-17799@indico.global
DESCRIPTION:Speakers: Hesham El Faham (University of Milan)\n\nThis semina
 r provides a brief introduction to the Standard Model Effective Field Theo
 ry (SMEFT) as a framework for parameterising heavy new-physics effects. Af
 ter reviewing the basic assumptions underlying SMEFT and its role in colli
 der phenomenology\, I will discuss selected topics in higher-order and hig
 her-dimensional effects. In particular\, I will address the impact of reno
 rmalisation-group evolution\, electroweak Sudakov logarithms\, and dimensi
 on-8 contributions–highlighting their interplay with the leading dimensi
 on-6 description– and their importance for robust SMEFT predictions.\n\n
 https://indico.global/event/17799/
LOCATION:Aula Caldirola (University of Milan Statale)
URL:https://indico.global/event/17799/
END:VEVENT
END:VCALENDAR
