BEGIN:VCALENDAR
VERSION:2.0
PRODID:-//CERN//INDICO//EN
BEGIN:VEVENT
SUMMARY:Quantum Observables for Collider Physics: Exploring Higher-Order E
 ffects
DTSTART:20260416T120000Z
DTEND:20260416T130000Z
DTSTAMP:20260421T174500Z
UID:indico-event-17681@indico.global
DESCRIPTION:Speakers: Fabio Maltoni (Universite Catholique de Louvain (UCL
 ) (BE) and Università di Bologna)\n\n\n\nMeasuring and interpreting quant
 um correlations in collider data provides a novel and stimulating perspect
 ive on fundamental interactions. In this talk\, I review the current theor
 etical and experimental status of this emerging programme. In particular\,
  I focus on ongoing efforts to incorporate higher-order corrections into o
 ur predictions and to interpret them within the framework of quantum infor
 mation concepts.https://cern.zoom.us/j/67871509924?pwd=rSzQ4ueXN58EicfdMDH
 TLzE75nUUhP.1\n\n\n\nhttps://indico.global/event/17681/
LOCATION:U2 - 5017 (Universita` Milano Bicocca)
URL:https://indico.global/event/17681/
END:VEVENT
END:VCALENDAR
