BEGIN:VCALENDAR
VERSION:2.0
PRODID:-//CERN//INDICO//EN
BEGIN:VEVENT
SUMMARY:Make it (net)work! - MLA2S Networking Seminar #09
DTSTART:20260511T110000Z
DTEND:20260511T140000Z
DTSTAMP:20260420T053400Z
UID:indico-event-17357@indico.global
DESCRIPTION:9th Network Seminar of the Thematic Platform MLA²S. Seminarr
 ooms 1 and 2\, PSK 3rd floor\n \n \nTo register: click "register" below 
 here. \n\nhttps://indico.global/event/17357/
URL:https://indico.global/event/17357/
END:VEVENT
END:VCALENDAR
