BEGIN:VCALENDAR
VERSION:2.0
PRODID:-//CERN//INDICO//EN
BEGIN:VEVENT
SUMMARY:Sinop Gerze Deydaa Parçacık Fiziği Yaz Okulu
DTSTART:20260817T070000Z
DTEND:20260823T090000Z
DTSTAMP:20260419T115100Z
UID:indico-event-17330@indico.global
DESCRIPTION:Deydaa Gerze Yaz Okulu\, parçacık fiziğinin temel kavramlar
 ını modern veri analizi yöntemleri ve disiplinlerarası uygulamalarla b
 irleştiren yoğun bir eğitim programı sunmaktadır. Yedi gün süren bu
  programda katılımcılar (lisans ve lisansüstü öğrencileri) Standart
  Model ve parçacık dedektörlerinden başlayarak istatistiksel veri yoru
 mlama\, Monte Carlo simülasyon teknikleri\, QCD hesaplamaları ve parton 
 dağılım fonksiyonları (PDF) gibi konulara sistematik bir şekilde giri
 ş yapacaktır. Ayrıca photon-induced süreçlerin fenomenolojisi ve ana
 liz stratejileri ele alınacak\, kozmik ışın müonlarının atmosfer fi
 ziği ve Earth observation çalışmalarıyla ilişkisi tartışılacaktı
 r. Programın amacı\, katılımcıların teoriden gözlenebilir veriye u
 zanan  tam analiz zincirini bütünsel bir perspektifle anlamalarını sa
 ğlamak ve böylece fiziksel süreçlerin modellenmesinden simülasyon\, v
 eri analizi ve teoriyle karşılaştırmaya kadar olan süreci görmelerin
 e fırsat yaratmaktır. Bu amaçla\, CMS deneyi özelinde istatistiksel me
 todlar\, analiz\, detektör sistemleri ve MC teknikleri detaylı incelenec
 ektir. Katılımcıların herhangi bir kolaborasyona üye olmalarında sor
 un bulunmamaktadır. Okulun ana dili Türkçe olmakla birlikte yurtdışı
 ndan gelen eğiticilerin verdiği dersler İngilizce olacaktır.Katılım 
 30 öğrenci ile sınırlı olacaktır. Ders notlarının bir kitapçık o
 larak yayınlanması planlanmaktadır.\nDeydaa Gerze Summer School offers 
 an intensive training program that combines the fundamental concepts of pa
 rticle physics with modern data analysis methods and interdisciplinary app
 lications.\nDuring this seven-day program\, participants (undergraduate an
 d graduate students) will be systematically introduced to topics starting 
 from the Standard Model and particle detectors\, extending to statistical 
 data interpretation\, Monte Carlo simulation techniques\, QCD calculations
 \, and parton distribution functions (PDFs). In addition\, the phenomenolo
 gy and analysis strategies of photon-induced processes will be covered\, a
 nd the relationship between cosmic ray muons\, atmospheric physics\, and E
 arth observation studies will be discussed.\nThe aim of the program is to 
 help participants understand the entire analysis chain—from theory to ob
 servable data—from a complete framework\, thereby enabling them to grasp
  the full process from modeling physical phenomena to simulation\, data an
 alysis\, and comparison with theory.\nFor this purpose\, statistical metho
 ds\, analysis techniques\, detector systems\, and Monte Carlo methods will
  be examined in detail within the context of the CMS experiment. There are
  no restrictions regarding participants being members of any collaboration
 . Although the main language of the school is Turkish\, lectures given by 
 instructors from abroad will be in English.\nParticipation is limited to 3
 0 students. It is planned that the lecture notes will be published as a bo
 oklet.\nDers verenler (instructors):\nAltuğ Özpineci (ODTÜ)\nBuğra Bil
 in (ULB/IIHE Brüksel)\nEce Aşılar (İstinye Ü.)\nHalil Gamsızkan (Esk
 işehir Teknik Ü.)\nHüseyin Dağ (BTÜ)\nLaurent Favart (ULB/IIHE Brüks
 el)\nLouis Moureaux (UHH Hamburg)\nNuhcan Akçit (ODTÜ)\n\nDerslikten man
 zara:\n \n\nhttps://indico.global/event/17330/
URL:https://indico.global/event/17330/
END:VEVENT
END:VCALENDAR
