BEGIN:VCALENDAR
VERSION:2.0
PRODID:-//CERN//INDICO//EN
BEGIN:VEVENT
SUMMARY:Aurelia Zuchanke
DTSTART:20260421T120000Z
DTEND:20260421T140000Z
DTSTAMP:20260421T075200Z
UID:indico-event-17136@indico.global
DESCRIPTION:https://indico.global/event/17136/
URL:https://indico.global/event/17136/
END:VEVENT
END:VCALENDAR
