BEGIN:VCALENDAR
VERSION:2.0
PRODID:-//CERN//INDICO//EN
BEGIN:VEVENT
SUMMARY:Ruse of reuse: Detecting text-similarity with AI in historical sou
 rces
DTSTART:20260304T230000Z
DTEND:20260306T220100Z
DTSTAMP:20260420T053400Z
UID:indico-event-17116@indico.global
CONTACT:jan.odstrcilik@oeaw.ac.at
DESCRIPTION:Ruse of reuseDetecting text-similarity with AI in historical s
 ources\n\n \nThe volume of text available in various digital corpora has 
 grown immensely thanks to numerous ongoing digitization projects\, and the
  continued success of HTR will only further expand these collections. Cons
 equently\, the need to take full advantage of these vast resources is more
  pressing than ever. The ability to identify text-reuse and measure text-s
 imilarity is thus more important than ever\, offering the potential to see
  connections never viewed before. AI is the key to making this possible.Th
 is two-day workshop is a continuation of our 2023 event\, Finding Connecti
 ons: Using AI and DNA Sequencing to Find Similarities and Parallels in Med
 ieval Texts\, now with an extended focus on general historical sources.\nM
 arch 5th will be devoted to research presentations across two sessions. In
  the afternoon\, William Mattingly will deliver an associated KIMAFO Lectu
 re: From Physical Object to Structured Data: Building AI Pipelines in Cult
 ural Heritage.\nMarch 6th will take a more informal\, hands-on workshop ap
 proach. Two morning sessions will be dedicated to work-in-progress reports
 \, plans for implementing AI in various projects\, experimental approaches
 \, and open discussions. The afternoon will conclude with a closed practic
 al programming workshop focusing on the application of various AI methods\
 , led by Martin Roček and Gleb Schmidt.\nOrganizers\n\nJan Odstrčilík\,
  Institute for Medieval Research\, Austrian Academy of Sciences\nMartin Ro
 ček\, Faculty of Arts\, Charles University and Institute for Medieval Res
 earch\, Austrian Academy of Sciences\nGleb Schmidt\, The Social Life of Ea
 rly Medieval Normative Texts’ SOLEMNE (canones.org) (ERC Cons: 101087979
 )\, Radboud University\n\nOrganizing institutions\n\nInstitute for Medieva
 l Research\, Austrian Academy of Sciences\nThe Social Life of Early Me
 dieval Normative Texts’ SOLEMNE (canones.org) (ERC Cons: 101087979)\, Ra
 dboud University\n\nCooperation\n\nAustrian Center for Digital Humanities\
 , Austrian Academy of Sciences\nMachine Learning Topical Platform\, Aust
 rian Academy of Sciences\n\n\nhttps://indico.global/event/17116/
LOCATION:Seminary rooms 7 and 8\, 5th Floor (Georg-Coch-Platz 2\, Austrian
  Academy of Sciences)
URL:https://indico.global/event/17116/
END:VEVENT
END:VCALENDAR
