BEGIN:VCALENDAR
VERSION:2.0
PRODID:-//CERN//INDICO//EN
BEGIN:VEVENT
SUMMARY:1st Machine Learning meets Materials Science Hackathon
DTSTART:20260508T100000Z
DTEND:20260509T120000Z
DTSTAMP:20260420T053500Z
UID:indico-event-17097@indico.global
CONTACT:mla2s-admin@oeaw.ac.at
DESCRIPTION:Speakers: Claus Trost (Erich Schmid Institute of Materials Sci
 ence of theAustrian Academy of Sciences)\, Claudius Krause (MBI Vienna (Ö
 AW))\, Kati Heinrich (IGF | ÖAW)\, Lorenz Romaner (Technical University o
 f Leoben)\, Nicki Holighaus (Acoustics Research Institute\, Austrian Acade
 my of Sciences)\, Sebastian Schaffer (University of Vienna)\, Jan Odstrči
 lík (Institut für Mittelalterforschung\, ÖAW)\, Christoph Dösinger (Te
 chnical University of Leoben)\n\nApply now to be part of the 1st Machine L
 earning meets Materials Science Hackathon at the Technical University of L
 eoben\, organized by MLA2S (oeaw.ac.at/mla2s/machine-learning-at-the-austr
 ian-academy-of-sciences) and the Department of Materials Science of the Te
 chnical University of Leoben! \n25 Students will be selected to work toge
 ther with 25 Students from the Österreichische Studienstiftung (oeaw.ac.a
 t/studienstiftung/home)\, solving machine learning tasks related to materi
 als science with Tutors from the Austrian Academy of Sciences\, University
  of Vienna\, Technical University of Leoben\, and Università Roma Tre.\n\
 nhttps://indico.global/event/17097/
IMAGE;VALUE=URI:https://indico.global/event/17097/logo-3610139250.png
LOCATION:Erzherzog Johann Trakt (Technical University of Leoben)
URL:https://indico.global/event/17097/
END:VEVENT
END:VCALENDAR
