BEGIN:VCALENDAR
VERSION:2.0
PRODID:-//CERN//INDICO//EN
BEGIN:VEVENT
SUMMARY:Make it (net)work! - MLA2S Networking Seminar #08
DTSTART:20260317T130000Z
DTEND:20260317T160000Z
DTSTAMP:20260420T041600Z
UID:indico-event-17096@indico.global
DESCRIPTION:8th Network Seminar of the Thematic Platform MLA²S. Seminarr
 ooms 1 and 2\, PSK 3rd floor\nZoom connection: [removed]\n \nTo register:
  click "register" below here. \n\nhttps://indico.global/event/17096/
URL:https://indico.global/event/17096/
END:VEVENT
END:VCALENDAR
