BEGIN:VCALENDAR
VERSION:2.0
PRODID:-//CERN//INDICO//EN
BEGIN:VEVENT
SUMMARY:IV CONGRESSO BRASILEIRO DE ENGENHARIA DE SISTEMAS EM PROCESSOS –
  PSE BR 2026
DTSTART:20260803T110000Z
DTEND:20260807T210000Z
DTSTAMP:20260419T083500Z
UID:indico-event-16922@indico.global
CONTACT:psebr.2026@eq.ufcg.edu.br
DESCRIPTION:Speakers: Heleno Bispo (Federal University of Campina Grande)\
 n\nO IV Congresso Brasileiro de Engenharia de Sistemas em Processos (PSE B
 R 2026) é o principal evento nacional dedicado à Process Systems Enginee
 ring\, reunindo pesquisadores(as)\, docentes\, estudantes e profissionais 
 da indústria para discutir avanços em modelagem\, simulação\, otimiza
 ção\, controle\, ciência de dados e inteligência artificial aplicada a
  processos. O evento será realizado em Campina Grande (PB)\, com organiza
 ção de UFCG\, UFPB\, UFBA\, IFPB\, UFPE e CITTA\, e promoção da ABEQ\,
  fortalecendo a integração científica do Nordeste com redes nacionais e
  internacionais. O tema central é “Engenharia de Sistemas em Processos 
 na Neoindustrialização do Brasil: Inovação\, Transição Energética e
  Desenvolvimento Regional”\, abordando o desafio de acelerar a adoção 
 de soluções digitais e sustentáveis para sistemas produtivos complexos.
  Parte-se da hipótese de que a integração entre modelagem fenomenológi
 ca\, métodos baseados em dados e inteligência artificial\, aliada à coo
 peração universidade–empresa\, amplia a eficiência\, a segurança e a
  sustentabilidade dos processos industriais. A viabilidade da proposta dec
 orre do caráter consolidado do PSE BR\, da participação institucional q
 ualificada\, da confirmação de palestrantes nacionais e internacionais e
  da experiência da comissão organizadora. A estratégia metodológica co
 mpreende plenárias\, sessões técnicas e de pôsteres avaliadas por pare
 s\, mesas-redondas institucionais\, minicursos e ações preparatórias on
 line\, com ampla disseminação dos resultados por meio de anais com DOI e
  disponibilização digital de conteúdos científicos\, contribuindo para
  a formação de recursos humanos qualificados\, a internacionalização d
 a pesquisa brasileira e o fortalecimento da engenharia nacional no context
 o da neoindustrialização e da transição para uma economia de baixo car
 bono.\n\nhttps://indico.global/event/16922/
IMAGE;VALUE=URI:https://indico.global/event/16922/logo-2312678145.png
LOCATION:Centro de Eventos Rosa Tânia Barbosa de Menezes (CERTBM) (Univer
 sidade Federal de Campina Grande)
URL:https://indico.global/event/16922/
END:VEVENT
END:VCALENDAR
