BEGIN:VCALENDAR
VERSION:2.0
PRODID:-//CERN//INDICO//EN
BEGIN:VEVENT
SUMMARY:KUTS15 @ KIT
DTSTART:20260323T140000Z
DTEND:20260325T130000Z
DTSTAMP:20260421T012300Z
UID:indico-event-16546@indico.global
CONTACT:KUTS15-2026@lists.kit.edu
DESCRIPTION:\nWhile precision calculations in the SM are by now very advan
 ced in loop order\, renormalization\, number of external legs and differen
 t mass scales\, the analogous calculations in BSM models are much less adv
 anced\, and present a range of additional issues\, both technical and conc
 eptual. The KUTS initiative is a series of workshops allowing for in-depth
  discussions of these issues. Launched in 2014 as a forum on Higgs-mass ca
 lculations in SUSY models\, its scope was subsequently broadened to encomp
 ass precision calculations of other Higgs-boson properties – and possibl
 y of other observables in the EW sector\, such as the W-boson mass – in 
 both SUSY and non-SUSY BSM models. The most recent previous meetings were 
 held at CERN in 2023\, at DESY in 2024\, and at Freiburg in 2025.\nIt is n
 ow time for the 15th KUTS meeting\, which will take place at the Karlsruhe
  Institute of Technology from Monday\, 23 March to Wednesday\, 25 March 20
 26. Participants are encouraged to present any BSM precision calculation t
 hey have been particularly interested in since the last meeting. Some time
  will also be left aside for further discussions on the aims and boundarie
 s of the KUTS initiative.\nThe meeting will follow the usual KUTS format: 
 three days (one afternoon\, one full day\, one morning) in which relativel
 y few talks are presented and discussions proceed freely\, without a stric
 t schedule.\nWarning: Please beware! Some participants may receive fraudul
 ent emails claiming to be from a company tasked with arranging accommodati
 ons for participants. These emails are scams.\n \nOrganizing Committee  
                      \n\nC. Borschensky (KIT\, LOC) \nS. Carlot
 ti (KIT\, LOC)\nM. M. Mühlleitner (KIT\, LOC)\nS. Heinemeyer (IFT/CSIC Ma
 drid)\nP. Slavich (LPTHE)\n\n \n\n\nhttps://indico.global/event/16546/
LOCATION:Physics high-rise (30.23)\, seminar room 6/1 (Karlsruhe Institute
  of Technology)
URL:https://indico.global/event/16546/
END:VEVENT
END:VCALENDAR
